BEGIN:VCALENDAR
VERSION:2.0
PRODID:-//ChamberMaster//Event Calendar 2.0//EN
METHOD:PUBLISH
X-PUBLISHED-TTL:P1H
REFRESH-INTERVAL:P1H
CALSCALE:GREGORIAN
BEGIN:VTIMEZONE
TZID:America/Denver
BEGIN:DAYLIGHT
RRULE:FREQ=YEARLY;BYMONTH=3;BYDAY=2SU
DTSTART:20070101T000000
TZOFFSETFROM:-0700
TZOFFSETTO:-0600
TZNAME:Mountain Daylight Time
END:DAYLIGHT
BEGIN:STANDARD
RRULE:FREQ=YEARLY;BYMONTH=11;BYDAY=1SU
DTSTART:20070101T000000
TZOFFSETFROM:-0600
TZOFFSETTO:-0700
TZNAME:Mountain Standard Time
END:STANDARD
END:VTIMEZONE
BEGIN:VEVENT
DTSTART;TZID=America/Denver:20241121T093000
DTEND;TZID=America/Denver:20241121T113000
X-MICROSOFT-CDO-ALLDAYEVENT:FALSE
SUMMARY:2024 Ribbon Cutting for Fargo Patent & Business Law
DESCRIPTION:The team at Fargo Patent & Business Law is excited to be hosting our ribbon cutting at the CSEDC on Thursday\, November 21st. We look forward to sharing more about who we are\, and about our services\, including patents\, trademarks\, business law and business investments. If you have any questions for our team\, please feel free to reach out to us\, at fargopatentlaw.com.Event Schedule:9:45 a.m.: Ribbon Cutting and Opening Remarks\, followed by Open Networking10:30 a.m.: Informational Workshop 11:30 a.m.: End of Event
X-ALT-DESC;FMTTYPE=text/html:<!DOCTYPE html><html><head><title></title></head><body aria-disabled="false"><p>The team at Fargo Patent &amp\; Business Law is excited to be hosting our ribbon cutting at the CSEDC on Thursday\, November 21st. We look forward to sharing more about who we are\, and about our services\, including patents\, trademarks\, business law and business investments. If you have any questions for our team\, please feel free to reach out to us\, at <a fr-original-style="" href="http://fargopatentlaw.com" style="user-select: auto\;" title="fargopatentlaw.com">fargopatentlaw.com</a>.</p><p><strong fr-original-style="" style="font-weight: 700\;">Event Schedule:</strong></p><p>9:45 a.m.: Ribbon Cutting and Opening Remarks\, followed by Open Networking</p><p>10:30 a.m.: Informational Workshop&nbsp\;</p><p>11:30 a.m.: End of Event</p><p><br></p></body></html>
LOCATION:102 S. Tejon Street Suite 1200 Colorado Springs CO 80903
UID:e.3467.1078136
SEQUENCE:3
DTSTAMP:20260421T095721Z
URL:https://business.coloradospringschamberedc.com/events/Details/2024-ribbon-cutting-for-fargo-patent-business-law-1243155?sourceTypeId=Hub
END:VEVENT
END:VCALENDAR
